BEGIN:VCALENDAR
PRODID:-//EventGuide//NONSGML MetroManager 1.1//EN
VERSION:2.0
METHOD:PUBLISH
BEGIN:VEVENT
DTSTART:20260425T190000
UID:20260328T190000Z-dca52903401@eventguide.com
DTSTAMP:20260425T204600Z
DESCRIPTION:The Liberian Entertainment Awards celebrate excellence in music, film, fashion, and media, honoring the artists and creators shaping Liberia's cultural...\nWashington, D.C. Metro Area\nWashington, DC \n202-994-1500
SUMMARY:Liberian Entertainment Awards
LOCATION:Washington, D.C. Metro Area
END:VEVENT
END:VCALENDAR
