BEGIN:VCALENDAR
PRODID:-//EventGuide//NONSGML MetroManager 1.1//EN
VERSION:2.0
METHOD:PUBLISH
BEGIN:VEVENT
DTSTART:20260815T100000
UID:20260412T100000Z-tpa50813001@eventguide.com
DTSTAMP:20260815T142505Z
DESCRIPTION:A Halloween-themed pop culture convention featuring a vendor marketplace, panels, and a poolside party, with spooky, family-friendly cosplay and horror-inspired...\nTampa - St. Petersburg Metro Area\nTampa, FL \n727-894-5000
SUMMARY:Sunshine City Scare
LOCATION:Tampa - St. Petersburg Metro Area
END:VEVENT
END:VCALENDAR
