BEGIN:VCALENDAR
PRODID:-//EventGuide//NONSGML MetroManager 1.1//EN
VERSION:2.0
METHOD:PUBLISH
BEGIN:VEVENT
DTSTART:20261122T100000
UID:20260412T100000Z-tpa50812902@eventguide.com
DTSTAMP:20261122T142505Z
DESCRIPTION:A holiday celebration featuring festive lights, community events, and seasonal favorites like the Santa Parade, Tree Lighting at North Straub Park, Snowfest...\nTampa - St. Petersburg Metro Area\nTampa, FL \n727-894-5000
SUMMARY:Holiday St. Pete
LOCATION:Tampa - St. Petersburg Metro Area
END:VEVENT
END:VCALENDAR
