BEGIN:VCALENDAR
PRODID:-//EventGuide//NONSGML MetroManager 1.1//EN
VERSION:2.0
METHOD:PUBLISH
BEGIN:VEVENT
DTSTART:20260927T110000
UID:20260412T110000Z-tpa50812801@eventguide.com
DTSTAMP:20260927T142505Z
DESCRIPTION:Anime convention featuring voice actors, cosplay, vendors, and artist alley\nTampa - St. Petersburg Metro Area\nTampa, FL \n727-894-5000
SUMMARY:Anime St. Pete Sunday
LOCATION:Tampa - St. Petersburg Metro Area
END:VEVENT
END:VCALENDAR
