BEGIN:VCALENDAR
PRODID:-//EventGuide//NONSGML MetroManager 1.1//EN
VERSION:2.0
METHOD:PUBLISH
BEGIN:VEVENT
DTSTART:20260926T100000
UID:20260412T100000Z-tpa50812701@eventguide.com
DTSTAMP:20260926T142504Z
DESCRIPTION:Anime convention featuring voice actors, cosplay, vendors, and artist alley\nTampa - St. Petersburg Metro Area\nTampa, FL \n727-894-5000
SUMMARY:Anime St. Pete Saturday
LOCATION:Tampa - St. Petersburg Metro Area
END:VEVENT
END:VCALENDAR
