BEGIN:VCALENDAR
PRODID:-//EventGuide//NONSGML MetroManager 1.1//EN
VERSION:2.0
METHOD:PUBLISH
BEGIN:VEVENT
DTSTART:20260514T190000
UID:20260412T190000Z-tpa50812601@eventguide.com
DTSTAMP:20260514T142504Z
DESCRIPTION:Pop / rock performance\nTampa - St. Petersburg Metro Area\nTampa, FL \n727-822-4562
SUMMARY:Foghat & Nazareth
LOCATION:Tampa - St. Petersburg Metro Area
END:VEVENT
END:VCALENDAR
