BEGIN:VCALENDAR
PRODID:-//EventGuide//NONSGML MetroManager 1.1//EN
VERSION:2.0
METHOD:PUBLISH
BEGIN:VEVENT
DTSTART:20260915T200000
UID:20260412T200000Z-tpa50812001@eventguide.com
DTSTAMP:20260915T142502Z
DESCRIPTION:Latin music in concert\nTampa - St. Petersburg Metro Area\nTampa, FL \n813-974-3002
SUMMARY:Ricardo Montaner
LOCATION:Tampa - St. Petersburg Metro Area
END:VEVENT
END:VCALENDAR
