BEGIN:VCALENDAR
PRODID:-//EventGuide//NONSGML MetroManager 1.1//EN
VERSION:2.0
METHOD:PUBLISH
BEGIN:VEVENT
DTSTART:20261008T200000
UID:20260412T200000Z-tpa50811701@eventguide.com
DTSTAMP:20261008T142501Z
DESCRIPTION:Pop / rock performance\nTampa - St. Petersburg Metro Area\nTampa, FL \n813-974-3002
SUMMARY:Dermot Kennedy
LOCATION:Tampa - St. Petersburg Metro Area
END:VEVENT
END:VCALENDAR
