BEGIN:VCALENDAR
PRODID:-//EventGuide//NONSGML MetroManager 1.1//EN
VERSION:2.0
METHOD:PUBLISH
BEGIN:VEVENT
DTSTART:20261029T190000
UID:20260412T190000Z-tpa50811601@eventguide.com
DTSTAMP:20261029T142501Z
DESCRIPTION:New Age music in concert\nTampa - St. Petersburg Metro Area\nTampa, FL \n813-974-3002
SUMMARY:CeCe Winans
LOCATION:Tampa - St. Petersburg Metro Area
END:VEVENT
END:VCALENDAR
