BEGIN:VCALENDAR
PRODID:-//EventGuide//NONSGML MetroManager 1.1//EN
VERSION:2.0
METHOD:PUBLISH
BEGIN:VEVENT
DTSTART:20260801T193000
UID:20260412T193000Z-tpa50811501@eventguide.com
DTSTAMP:20260801T142500Z
DESCRIPTION:Rap / hip hop music performance\nTampa - St. Petersburg Metro Area\nTampa, FL \n813-974-3002
SUMMARY:Freestyle Explosion: Stevie B, Lisa Lisa & TKA
LOCATION:Tampa - St. Petersburg Metro Area
END:VEVENT
END:VCALENDAR
