BEGIN:VCALENDAR
PRODID:-//EventGuide//NONSGML MetroManager 1.1//EN
VERSION:2.0
METHOD:PUBLISH
BEGIN:VEVENT
DTSTART:20261016T193000
UID:20260412T193000Z-tpa50811301@eventguide.com
DTSTAMP:20261016T142500Z
DESCRIPTION:Techno / electronic concert performance\nTampa - St. Petersburg Metro Area\nTampa, FL \n813-247-2555
SUMMARY:Living Tombstone
LOCATION:Tampa - St. Petersburg Metro Area
END:VEVENT
END:VCALENDAR
