BEGIN:VCALENDAR
PRODID:-//EventGuide//NONSGML MetroManager 1.1//EN
VERSION:2.0
METHOD:PUBLISH
BEGIN:VEVENT
DTSTART:20260424T183000
UID:20260412T183000Z-tpa50809001@eventguide.com
DTSTAMP:20260424T142452Z
DESCRIPTION:Alternative music performance\nTampa - St. Petersburg Metro Area\nTampa, FL \n813-972-8152
SUMMARY:Smile Empty Soul
LOCATION:Tampa - St. Petersburg Metro Area
END:VEVENT
END:VCALENDAR
