BEGIN:VCALENDAR
PRODID:-//EventGuide//NONSGML MetroManager 1.1//EN
VERSION:2.0
METHOD:PUBLISH
BEGIN:VEVENT
DTSTART:20260802T173000
UID:20260412T173000Z-tpa50808801@eventguide.com
DTSTAMP:20260802T142452Z
DESCRIPTION:Comedic performance live\nTampa - St. Petersburg Metro Area\nTampa, FL \n813-960-1197
SUMMARY:Tom Arnold
LOCATION:Tampa - St. Petersburg Metro Area
END:VEVENT
END:VCALENDAR
