BEGIN:VCALENDAR
PRODID:-//EventGuide//NONSGML MetroManager 1.1//EN
VERSION:2.0
METHOD:PUBLISH
BEGIN:VEVENT
DTSTART:20261121T200000
UID:20260412T200000Z-tpa50806304@eventguide.com
DTSTAMP:20261121T142442Z
DESCRIPTION:Comedic performance live\nTampa - St. Petersburg Metro Area\nTampa, FL \n813-960-1197
SUMMARY:Ben Bankas
LOCATION:Tampa - St. Petersburg Metro Area
END:VEVENT
END:VCALENDAR
