BEGIN:VCALENDAR
PRODID:-//EventGuide//NONSGML MetroManager 1.1//EN
VERSION:2.0
METHOD:PUBLISH
BEGIN:VEVENT
DTSTART:20261020T193000
UID:20260412T193000Z-tpa50806001@eventguide.com
DTSTAMP:20261020T142441Z
DESCRIPTION:Lecture event\nTampa - St. Petersburg Metro Area\nTampa, FL \n813-960-1197
SUMMARY:Anthony Mrocka
LOCATION:Tampa - St. Petersburg Metro Area
END:VEVENT
END:VCALENDAR
