BEGIN:VCALENDAR
PRODID:-//EventGuide//NONSGML MetroManager 1.1//EN
VERSION:2.0
METHOD:PUBLISH
BEGIN:VEVENT
DTSTART:20261119T200000
UID:20260412T200000Z-tpa50805601@eventguide.com
DTSTAMP:20261119T142439Z
DESCRIPTION:Comedic performance live\nTampa - St. Petersburg Metro Area\nTampa, FL \n813-627-7625
SUMMARY:Jonathan Van Ness
LOCATION:Tampa - St. Petersburg Metro Area
END:VEVENT
END:VCALENDAR
