BEGIN:VCALENDAR
PRODID:-//EventGuide//NONSGML MetroManager 1.1//EN
VERSION:2.0
METHOD:PUBLISH
BEGIN:VEVENT
DTSTART:20261112T183000
UID:20260412T183000Z-tpa50805401@eventguide.com
DTSTAMP:20261112T142439Z
DESCRIPTION:Alternative music performance\nTampa - St. Petersburg Metro Area\nTampa, FL \n813-627-7625
SUMMARY:O.A.R., Gavin DeGraw & KT Tunstall
LOCATION:Tampa - St. Petersburg Metro Area
END:VEVENT
END:VCALENDAR
