BEGIN:VCALENDAR
PRODID:-//EventGuide//NONSGML MetroManager 1.1//EN
VERSION:2.0
METHOD:PUBLISH
BEGIN:VEVENT
DTSTART:20260515T200000
UID:20260412T200000Z-tpa50803201@eventguide.com
DTSTAMP:20260515T142431Z
DESCRIPTION:Live concert performance\nTampa - St. Petersburg Metro Area\nTampa, FL 
SUMMARY:Heated Rivalry Night
LOCATION:Tampa - St. Petersburg Metro Area
END:VEVENT
END:VCALENDAR
