BEGIN:VCALENDAR
PRODID:-//EventGuide//NONSGML MetroManager 1.1//EN
VERSION:2.0
METHOD:PUBLISH
BEGIN:VEVENT
DTSTART:20260520T180000
UID:20260412T180000Z-tpa50801901@eventguide.com
DTSTAMP:20260520T142426Z
DESCRIPTION:Pop / rock performance\nTampa - St. Petersburg Metro Area\nTampa, FL 
SUMMARY:Citizen Soldier
LOCATION:Tampa - St. Petersburg Metro Area
END:VEVENT
END:VCALENDAR
