BEGIN:VCALENDAR
PRODID:-//EventGuide//NONSGML MetroManager 1.1//EN
VERSION:2.0
METHOD:PUBLISH
BEGIN:VEVENT
DTSTART:20260521T190000
UID:20260412T190000Z-tpa50801501@eventguide.com
DTSTAMP:20260521T142425Z
DESCRIPTION:Pop / rock performance\nTampa - St. Petersburg Metro Area\nTampa, FL 
SUMMARY:Arankai
LOCATION:Tampa - St. Petersburg Metro Area
END:VEVENT
END:VCALENDAR
