BEGIN:VCALENDAR
PRODID:-//EventGuide//NONSGML MetroManager 1.1//EN
VERSION:2.0
METHOD:PUBLISH
BEGIN:VEVENT
DTSTART:20260424T200000
UID:20260412T200000Z-tpa50801401@eventguide.com
DTSTAMP:20260424T142425Z
DESCRIPTION:Live concert performance\nTampa - St. Petersburg Metro Area\nTampa, FL 
SUMMARY:All Your Friends: The Indie Party
LOCATION:Tampa - St. Petersburg Metro Area
END:VEVENT
END:VCALENDAR
