BEGIN:VCALENDAR
PRODID:-//EventGuide//NONSGML MetroManager 1.1//EN
VERSION:2.0
METHOD:PUBLISH
BEGIN:VEVENT
DTSTART:20261004T190000
UID:20260412T190000Z-tpa50801301@eventguide.com
DTSTAMP:20261004T142424Z
DESCRIPTION:Rap / hip hop music performance\nTampa - St. Petersburg Metro Area\nTampa, FL 
SUMMARY:Akeem Ali
LOCATION:Tampa - St. Petersburg Metro Area
END:VEVENT
END:VCALENDAR
