BEGIN:VCALENDAR
PRODID:-//EventGuide//NONSGML MetroManager 1.1//EN
VERSION:2.0
METHOD:PUBLISH
BEGIN:VEVENT
DTSTART:20260924T193000
UID:20260412T193000Z-tpa50800801@eventguide.com
DTSTAMP:20260924T142423Z
DESCRIPTION:Rap / hip hop music performance\nTampa - St. Petersburg Metro Area\nTampa, FL \n813-740-2446
SUMMARY:Wu-Tang Clan & Bone Thugs N Harmony
LOCATION:Tampa - St. Petersburg Metro Area
END:VEVENT
END:VCALENDAR
