BEGIN:VCALENDAR
PRODID:-//EventGuide//NONSGML MetroManager 1.1//EN
VERSION:2.0
METHOD:PUBLISH
BEGIN:VEVENT
DTSTART:20260917T193000
UID:20260412T193000Z-tpa50799401@eventguide.com
DTSTAMP:20260917T142418Z
DESCRIPTION:Pop / rock performance\nTampa - St. Petersburg Metro Area\nTampa, FL \n813-740-2446
SUMMARY:Empire of the Sun
LOCATION:Tampa - St. Petersburg Metro Area
END:VEVENT
END:VCALENDAR
