BEGIN:VCALENDAR
PRODID:-//EventGuide//NONSGML MetroManager 1.1//EN
VERSION:2.0
METHOD:PUBLISH
BEGIN:VEVENT
DTSTART:20260818T180000
UID:20260412T180000Z-tpa50799201@eventguide.com
DTSTAMP:20260818T142417Z
DESCRIPTION:Live rock / metal music\nTampa - St. Petersburg Metro Area\nTampa, FL \n813-740-2446
SUMMARY:Avenged Sevenfold & Good Charlotte
LOCATION:Tampa - St. Petersburg Metro Area
END:VEVENT
END:VCALENDAR
