BEGIN:VCALENDAR
PRODID:-//EventGuide//NONSGML MetroManager 1.1//EN
VERSION:2.0
METHOD:PUBLISH
BEGIN:VEVENT
DTSTART:20260829T173000
UID:20260412T173000Z-tpa50799101@eventguide.com
DTSTAMP:20260829T142417Z
DESCRIPTION:Alternative music performance\nTampa - St. Petersburg Metro Area\nTampa, FL \n813-740-2446
SUMMARY:311 & Dirty Heads
LOCATION:Tampa - St. Petersburg Metro Area
END:VEVENT
END:VCALENDAR
