BEGIN:VCALENDAR
PRODID:-//EventGuide//NONSGML MetroManager 1.1//EN
VERSION:2.0
METHOD:PUBLISH
BEGIN:VEVENT
DTSTART:20260923T193000
UID:20260412T193000Z-tpa50798701@eventguide.com
DTSTAMP:20260923T142415Z
DESCRIPTION:R&B / soul music performance\nTampa - St. Petersburg Metro Area\nTampa, FL \n813-740-2446
SUMMARY:TLC, Salt-N-Pepa & En Vogue
LOCATION:Tampa - St. Petersburg Metro Area
END:VEVENT
END:VCALENDAR
