BEGIN:VCALENDAR
PRODID:-//EventGuide//NONSGML MetroManager 1.1//EN
VERSION:2.0
METHOD:PUBLISH
BEGIN:VEVENT
DTSTART:20261114T190000
UID:20260412T190000Z-tpa50798401@eventguide.com
DTSTAMP:20261114T142414Z
DESCRIPTION:Alternative music performance\nTampa - St. Petersburg Metro Area\nTampa, FL \n813-740-2446
SUMMARY:Jimmy Eat World, Hot Mulligan & Teen Jesus and The Jean Teasers
LOCATION:Tampa - St. Petersburg Metro Area
END:VEVENT
END:VCALENDAR
