BEGIN:VCALENDAR
PRODID:-//EventGuide//NONSGML MetroManager 1.1//EN
VERSION:2.0
METHOD:PUBLISH
BEGIN:VEVENT
DTSTART:20261010T184500
UID:20260412T184500Z-tpa50798201@eventguide.com
DTSTAMP:20261010T142413Z
DESCRIPTION:Alternative music performance\nTampa - St. Petersburg Metro Area\nTampa, FL \n813-740-2446
SUMMARY:Five Finger Death Punch, Cody Jinks & Eva Under Fire
LOCATION:Tampa - St. Petersburg Metro Area
END:VEVENT
END:VCALENDAR
