BEGIN:VCALENDAR
PRODID:-//EventGuide//NONSGML MetroManager 1.1//EN
VERSION:2.0
METHOD:PUBLISH
BEGIN:VEVENT
DTSTART:20261019T180000
UID:20260412T180000Z-tpa50798001@eventguide.com
DTSTAMP:20261019T142412Z
DESCRIPTION:Alternative music performance\nTampa - St. Petersburg Metro Area\nTampa, FL \n813-740-2446
SUMMARY:Breaking Benjamin, Chevelle & Starset
LOCATION:Tampa - St. Petersburg Metro Area
END:VEVENT
END:VCALENDAR
