BEGIN:VCALENDAR
PRODID:-//EventGuide//NONSGML MetroManager 1.1//EN
VERSION:2.0
METHOD:PUBLISH
BEGIN:VEVENT
DTSTART:20260508T160000
UID:20260412T160000Z-tpa50795901@eventguide.com
DTSTAMP:20260508T142405Z
DESCRIPTION:Lecture event\nTampa - St. Petersburg Metro Area\nTampa, FL \n813-864-4000
SUMMARY:Chris Van Vliet
LOCATION:Tampa - St. Petersburg Metro Area
END:VEVENT
END:VCALENDAR
