BEGIN:VCALENDAR
PRODID:-//EventGuide//NONSGML MetroManager 1.1//EN
VERSION:2.0
METHOD:PUBLISH
BEGIN:VEVENT
DTSTART:20260801T183000
UID:20260412T183000Z-tpa50795701@eventguide.com
DTSTAMP:20260801T142404Z
DESCRIPTION:Comedic performance live\nTampa - St. Petersburg Metro Area\nTampa, FL \n813-864-4000
SUMMARY:AJ Wilkerson
LOCATION:Tampa - St. Petersburg Metro Area
END:VEVENT
END:VCALENDAR
