BEGIN:VCALENDAR
PRODID:-//EventGuide//NONSGML MetroManager 1.1//EN
VERSION:2.0
METHOD:PUBLISH
BEGIN:VEVENT
DTSTART:20261010T100000
UID:20260412T100000Z-tpa50795601@eventguide.com
DTSTAMP:20261010T142403Z
DESCRIPTION:The largest traveling retro vintage market in the U.S., featuring 70-120+ vendors offering clothing, home goods, and handmade pieces from the 1940s-1980...\nTampa - St. Petersburg Metro Area\nTampa, FL \n813-621-7821
SUMMARY:Time Travelers Vintage Expo
LOCATION:Tampa - St. Petersburg Metro Area
END:VEVENT
END:VCALENDAR
