BEGIN:VCALENDAR
PRODID:-//EventGuide//NONSGML MetroManager 1.1//EN
VERSION:2.0
METHOD:PUBLISH
BEGIN:VEVENT
DTSTART:20261121T100000
UID:20260412T100000Z-tpa50795501@eventguide.com
DTSTAMP:20261121T142403Z
DESCRIPTION:Showcasing weird, bizarre, and creepy entertainment\nTampa - St. Petersburg Metro Area\nTampa, FL \n813-621-7821
SUMMARY:Oddities & Curiosities Expo
LOCATION:Tampa - St. Petersburg Metro Area
END:VEVENT
END:VCALENDAR
