BEGIN:VCALENDAR
PRODID:-//EventGuide//NONSGML MetroManager 1.1//EN
VERSION:2.0
METHOD:PUBLISH
BEGIN:VEVENT
DTSTART:20270121T193000
UID:20260412T193000Z-tpa50794903@eventguide.com
DTSTAMP:20270121T142402Z
DESCRIPTION:Musical theatrical performance\nTampa - St. Petersburg Metro Area\nTampa, FL \n813-229-7827
SUMMARY:The Great Gatsby - Theatrical Production
LOCATION:Tampa - St. Petersburg Metro Area
END:VEVENT
END:VCALENDAR
