BEGIN:VCALENDAR
PRODID:-//EventGuide//NONSGML MetroManager 1.1//EN
VERSION:2.0
METHOD:PUBLISH
BEGIN:VEVENT
DTSTART:20270119T193000
UID:20260412T193000Z-tpa50794901@eventguide.com
DTSTAMP:20270119T142401Z
DESCRIPTION:Musical theatrical performance\nTampa - St. Petersburg Metro Area\nTampa, FL \n813-229-7827
SUMMARY:The Great Gatsby - Theatrical Production
LOCATION:Tampa - St. Petersburg Metro Area
END:VEVENT
END:VCALENDAR
