BEGIN:VCALENDAR
PRODID:-//EventGuide//NONSGML MetroManager 1.1//EN
VERSION:2.0
METHOD:PUBLISH
BEGIN:VEVENT
DTSTART:20261129T150000
UID:20260412T150000Z-tpa50794509@eventguide.com
DTSTAMP:20261129T142400Z
DESCRIPTION:Cirque Du Soleil theatrical performance\nTampa - St. Petersburg Metro Area\nTampa, FL \n813-229-7827
SUMMARY:Cirque Du Soleil - Twas The Night Before
LOCATION:Tampa - St. Petersburg Metro Area
END:VEVENT
END:VCALENDAR
