BEGIN:VCALENDAR
PRODID:-//EventGuide//NONSGML MetroManager 1.1//EN
VERSION:2.0
METHOD:PUBLISH
BEGIN:VEVENT
DTSTART:20261120T193000
UID:20260412T193000Z-tpa50794503@eventguide.com
DTSTAMP:20261120T142359Z
DESCRIPTION:Cirque Du Soleil theatrical performance\nTampa - St. Petersburg Metro Area\nTampa, FL \n813-229-7827
SUMMARY:Cirque Du Soleil - Twas The Night Before
LOCATION:Tampa - St. Petersburg Metro Area
END:VEVENT
END:VCALENDAR
