BEGIN:VCALENDAR
PRODID:-//EventGuide//NONSGML MetroManager 1.1//EN
VERSION:2.0
METHOD:PUBLISH
BEGIN:VEVENT
DTSTART:20260423T200000
UID:20260412T200000Z-tpa50794401@eventguide.com
DTSTAMP:20260423T142359Z
DESCRIPTION:Comedic performance live\nTampa - St. Petersburg Metro Area\nTampa, FL \n813-229-7827
SUMMARY:Chris Tucker
LOCATION:Tampa - St. Petersburg Metro Area
END:VEVENT
END:VCALENDAR
