BEGIN:VCALENDAR
PRODID:-//EventGuide//NONSGML MetroManager 1.1//EN
VERSION:2.0
METHOD:PUBLISH
BEGIN:VEVENT
DTSTART:20261007T193000
UID:20260412T193000Z-tpa50794302@eventguide.com
DTSTAMP:20261007T142358Z
DESCRIPTION:Musical theatrical performance\nTampa - St. Petersburg Metro Area\nTampa, FL \n813-229-7827
SUMMARY:Buena Vista Social Club - Musical
LOCATION:Tampa - St. Petersburg Metro Area
END:VEVENT
END:VCALENDAR
