BEGIN:VCALENDAR
PRODID:-//EventGuide//NONSGML MetroManager 1.1//EN
VERSION:2.0
METHOD:PUBLISH
BEGIN:VEVENT
DTSTART:20270409T193000
UID:20260412T193000Z-tpa50794004@eventguide.com
DTSTAMP:20270409T142355Z
DESCRIPTION:Musical theatrical performance\nTampa - St. Petersburg Metro Area\nTampa, FL \n813-229-7827
SUMMARY:Oh, Mary!
LOCATION:Tampa - St. Petersburg Metro Area
END:VEVENT
END:VCALENDAR
