BEGIN:VCALENDAR
PRODID:-//EventGuide//NONSGML MetroManager 1.1//EN
VERSION:2.0
METHOD:PUBLISH
BEGIN:VEVENT
DTSTART:20261120T130000
UID:20260412T130000Z-tpa50791901@eventguide.com
DTSTAMP:20261120T142348Z
DESCRIPTION:An annual three 3 day country music festival featuring 30+ artists across two stages. Performers include Dylan Gossett and Charles Wesley Godwin, plus...\nTampa - St. Petersburg Metro Area\nTampa, FL 
SUMMARY:St. Pete Country Fest Friday
LOCATION:Tampa - St. Petersburg Metro Area
END:VEVENT
END:VCALENDAR
