BEGIN:VCALENDAR
PRODID:-//EventGuide//NONSGML MetroManager 1.1//EN
VERSION:2.0
METHOD:PUBLISH
BEGIN:VEVENT
DTSTART:20260917T131000
UID:20260412T131000Z-tpa50791803@eventguide.com
DTSTAMP:20260917T142348Z
DESCRIPTION:Major League Baseball professional baseball game\nTampa - St. Petersburg Metro Area\nTampa, FL \n727-821-9301
SUMMARY:Tampa Bay Rays v Athletics
LOCATION:Tampa - St. Petersburg Metro Area
END:VEVENT
END:VCALENDAR
