BEGIN:VCALENDAR
PRODID:-//EventGuide//NONSGML MetroManager 1.1//EN
VERSION:2.0
METHOD:PUBLISH
BEGIN:VEVENT
DTSTART:20260916T184000
UID:20260412T184000Z-tpa50791802@eventguide.com
DTSTAMP:20260916T142348Z
DESCRIPTION:Major League Baseball professional baseball game\nTampa - St. Petersburg Metro Area\nTampa, FL \n727-821-9301
SUMMARY:Tampa Bay Rays v Athletics
LOCATION:Tampa - St. Petersburg Metro Area
END:VEVENT
END:VCALENDAR
