BEGIN:VCALENDAR
PRODID:-//EventGuide//NONSGML MetroManager 1.1//EN
VERSION:2.0
METHOD:PUBLISH
BEGIN:VEVENT
DTSTART:20260805T200000
UID:20260412T200000Z-tpa50791501@eventguide.com
DTSTAMP:20260805T142347Z
DESCRIPTION:Latin music in concert\nTampa - St. Petersburg Metro Area\nTampa, FL \n727-892-5767
SUMMARY:Mon Laferte
LOCATION:Tampa - St. Petersburg Metro Area
END:VEVENT
END:VCALENDAR
