BEGIN:VCALENDAR
PRODID:-//EventGuide//NONSGML MetroManager 1.1//EN
VERSION:2.0
METHOD:PUBLISH
BEGIN:VEVENT
DTSTART:20260510T200000
UID:20260412T200000Z-tpa50789101@eventguide.com
DTSTAMP:20260510T142338Z
DESCRIPTION:Wrestling sport match\nTampa - St. Petersburg Metro Area\nTampa, FL \n727-800-2164
SUMMARY:Extreme Dwarfanators Wrestling
LOCATION:Tampa - St. Petersburg Metro Area
END:VEVENT
END:VCALENDAR
