BEGIN:VCALENDAR
PRODID:-//EventGuide//NONSGML MetroManager 1.1//EN
VERSION:2.0
METHOD:PUBLISH
BEGIN:VEVENT
DTSTART:20260507T190000
UID:20260412T190000Z-tpa50787101@eventguide.com
DTSTAMP:20260507T142331Z
DESCRIPTION:Religious concert performance\nTampa - St. Petersburg Metro Area\nTampa, FL 
SUMMARY:Tauren Wells
LOCATION:Tampa - St. Petersburg Metro Area
END:VEVENT
END:VCALENDAR
