BEGIN:VCALENDAR
PRODID:-//EventGuide//NONSGML MetroManager 1.1//EN
VERSION:2.0
METHOD:PUBLISH
BEGIN:VEVENT
DTSTART:20260517T150000
UID:20260412T150000Z-tpa50787001@eventguide.com
DTSTAMP:20260517T142331Z
DESCRIPTION:Ballet theatrical performance\nTampa - St. Petersburg Metro Area\nTampa, FL \n863-682-7553
SUMMARY:International Ballet of Florida: Coppelia
LOCATION:Tampa - St. Petersburg Metro Area
END:VEVENT
END:VCALENDAR
