BEGIN:VCALENDAR
PRODID:-//EventGuide//NONSGML MetroManager 1.1//EN
VERSION:2.0
METHOD:PUBLISH
BEGIN:VEVENT
DTSTART:20260515T160000
UID:20260412T160000Z-tpa50786901@eventguide.com
DTSTAMP:20260515T142330Z
DESCRIPTION:Film oriented event\nTampa - St. Petersburg Metro Area\nTampa, FL \n863-682-7553
SUMMARY:Harry Potter In Concert
LOCATION:Tampa - St. Petersburg Metro Area
END:VEVENT
END:VCALENDAR
