BEGIN:VCALENDAR
PRODID:-//EventGuide//NONSGML MetroManager 1.1//EN
VERSION:2.0
METHOD:PUBLISH
BEGIN:VEVENT
DTSTART:20260514T200000
UID:20260412T200000Z-tpa50786801@eventguide.com
DTSTAMP:20260514T142330Z
DESCRIPTION:Classical concert\nTampa - St. Petersburg Metro Area\nTampa, FL \n863-682-7553
SUMMARY:The Music of the Lord of the Rings, The Hobbit, and The Rings of Power - In Concert
LOCATION:Tampa - St. Petersburg Metro Area
END:VEVENT
END:VCALENDAR
